BEGIN:VCALENDAR
CALSCALE:GREGORIAN
VERSION:2.0
X-WR-CALNAME:Vorbereitungswochenende Feuer & Flamme
METHOD:PUBLISH
PRODID:-//Apple Inc.//macOS 15.3.2//EN
BEGIN:VEVENT
TRANSP:TRANSPARENT
DTEND;VALUE=DATE:20250512
X-APPLE-STRUCTURED-LOCATION;VALUE=URI;X-APPLE-RADIUS=70.75733947753906;X
 -APPLE-REFERENCEFRAME=0;X-TITLE=Gie��ener Stra��e 38\\n35466 Rabenau-Londo
 rf:geo:50.674359,8.862121
UID:FB5F823E-263F-4716-8166-79A20BEDC3D8
DTSTAMP:20250404T065343Z
LOCATION:Gie��ener Stra��e 38\n35466 Rabenau-Londorf
X-APPLE-CREATOR-IDENTITY:com.apple.calendar
DESCRIPTION:Freitag Anreise ab 19:00 Uhr\nSamstag Inhaltlicher Beginn: 0
 9:30 Uhr\nSonntag Schluss: 12:00 Uhr
SEQUENCE:2
SUMMARY:Vorbereitungswochenende Feuer & Flamme
DTSTART;VALUE=DATE:20250509
LAST-MODIFIED:20250403T170510Z
CREATED:20250303T193722Z
X-APPLE-CREATOR-TEAM-IDENTITY:0000000000
END:VEVENT
END:VCALENDAR
